BEGIN:VCALENDAR
VERSION:2.0
PRODID:Events Booking
BEGIN:VEVENT
UID:69e9563e7fb74
SUMMARY:ILEAP Club Night 
DESCRIPTION:ILEAP&nbsp\;Club&nbsp\;Nights!For&nbsp\;ILEAP&nbsp\;Members\,&n
 bsp\;Old&nbsp\;and&nbsp\;New!Join&nbsp\;ILEAP&nbsp\;and&nbsp\;join&nbsp\;t
 he&nbsp\;Fun!
LOCATION:Southern Lane\, Stratford-upon-Avon\, CV37 6BH
DTSTART:20190529T190000Z
DTEND:20190529T210000Z
DTSTAMP:20260423T001406Z
ORGANIZER;CN=ILEAP Charity:MAILTO:sparkle@ileap.co.uk
GEO:52.189135;-1.70661
X-APPLE-STRUCTURED-LOCATION;VALUE=URI;X-ADDRESS=Southern Lane\, Stratford-u
 pon-Avon\, CV37 6BH;X-APPLE-RADIUS=72;X-TITLE=The Other Place:52.189135;-1
 .70661
END:VEVENT
END:VCALENDAR