BEGIN:VCALENDAR
VERSION:2.0
PRODID:Events Booking
BEGIN:VEVENT
UID:69ed3cd3388da
SUMMARY:Mosaic Coaster Design with Charlie: Rain Spell: All Ages
DESCRIPTION:
DTSTART:20200820T120000Z
DTEND:20200820T133000Z
DTSTAMP:20260425T231443Z
ORGANIZER;CN=ILEAP Charity:MAILTO:sparkle@ileap.co.uk
END:VEVENT
END:VCALENDAR