BEGIN:VCALENDAR
VERSION:2.0
PRODID:Events Booking
BEGIN:VEVENT
UID:69ed27fbb48c8
SUMMARY:Mosaic Coaster Design with Charlie: Turquoise Rings: 10.30am - 12no
 on: All Ages
DESCRIPTION:
DTSTART:20200813T093000Z
DTEND:20200813T110000Z
DTSTAMP:20260425T214547Z
ORGANIZER;CN=ILEAP Charity:MAILTO:sparkle@ileap.co.uk
END:VEVENT
END:VCALENDAR