BEGIN:VCALENDAR
VERSION:2.0
PRODID:Events Booking
BEGIN:VEVENT
UID:69ed3a749bacb
SUMMARY:Mosaic Coaster Design with Charlie: Windsor: 10.30am - 12noon: All 
 Ages 
DESCRIPTION:
DTSTART:20200827T093000Z
DTEND:20200827T110000Z
DTSTAMP:20260425T230436Z
ORGANIZER;CN=ILEAP Charity:MAILTO:sparkle@ileap.co.uk
END:VEVENT
END:VCALENDAR