BEGIN:VCALENDAR
VERSION:2.0
PRODID:Events Booking
BEGIN:VEVENT
UID:69ecdf10eb907
SUMMARY:Online Zoom Activity: Motivational Monday for All Ages
DESCRIPTION:
DTSTART:20200511T100000Z
DTEND:20200511T110000Z
DTSTAMP:20260425T163440Z
ORGANIZER;CN=ILEAP Charity:MAILTO:sparkle@ileap.co.uk
END:VEVENT
END:VCALENDAR