BEGIN:VCALENDAR
VERSION:2.0
PRODID:Events Booking
BEGIN:VEVENT
UID:69e72f86a66ef
SUMMARY:Olton Mere Sailing Club<br>14+ yrs
DESCRIPTION:
DTSTART:20180804T120000Z
DTEND:20180804T164500Z
DTSTAMP:20260421T090422Z
ORGANIZER;CN=ILEAP Charity:MAILTO:sparkle@ileap.co.uk
END:VEVENT
END:VCALENDAR