BEGIN:VCALENDAR
VERSION:2.0
PRODID:Events Booking
BEGIN:VEVENT
UID:69ed4af75f28e
SUMMARY:Online Zoom Activity: 1.30pm -2.30pm September 2020
DESCRIPTION:
DTSTART:20200901T123000Z
DTEND:20200901T133000Z
DTSTAMP:20260426T001503Z
ORGANIZER;CN=ILEAP Charity:MAILTO:sparkle@ileap.co.uk
END:VEVENT
END:VCALENDAR