BEGIN:VCALENDAR
VERSION:2.0
PRODID:Events Booking
BEGIN:VEVENT
UID:69ed4b1829571
SUMMARY:Online Zoom Activity: 11.30am -12.30pm: 14TH Sept - 18th Dec 2020
DESCRIPTION:
DTSTART:20200914T103000Z
DTEND:20200914T113000Z
DTSTAMP:20260426T001536Z
ORGANIZER;CN=ILEAP Charity:MAILTO:sparkle@ileap.co.uk
END:VEVENT
END:VCALENDAR