BEGIN:VCALENDAR
VERSION:2.0
PRODID:Events Booking
BEGIN:VEVENT
UID:69ed4af6db442
SUMMARY:Online Zoom Activity: 3.30pm -4.30pm September 2020 
DESCRIPTION:
DTSTART:20200901T143000Z
DTEND:20200901T153000Z
DTSTAMP:20260426T001502Z
ORGANIZER;CN=ILEAP Charity:MAILTO:sparkle@ileap.co.uk
END:VEVENT
END:VCALENDAR