BEGIN:VCALENDAR
VERSION:2.0
PRODID:Events Booking
BEGIN:VEVENT
UID:69ecb01b3a642
SUMMARY:Online Zoom Activity: Art Apart Mondays
DESCRIPTION:
DTSTART:20200413T140000Z
DTEND:20200413T150000Z
DTSTAMP:20260425T131419Z
ORGANIZER;CN=ILEAP Charity:MAILTO:sparkle@ileap.co.uk
END:VEVENT
END:VCALENDAR