BEGIN:VCALENDAR
VERSION:2.0
PRODID:Events Booking
BEGIN:VEVENT
UID:69ecc76b360a2
SUMMARY:Online Zoom Activity: Art Apart Mondays
DESCRIPTION:
DTSTART:20200427T140000Z
DTEND:20200427T150000Z
DTSTAMP:20260425T145347Z
ORGANIZER;CN=ILEAP Charity:MAILTO:sparkle@ileap.co.uk
END:VEVENT
END:VCALENDAR