BEGIN:VCALENDAR
VERSION:2.0
PRODID:Events Booking
BEGIN:VEVENT
UID:69ecaf5112d4c
SUMMARY:Online Zoom Activity: Art Apart Mondays
DESCRIPTION:
DTSTART:20200406T140000Z
DTEND:20200406T150000Z
DTSTAMP:20260425T131057Z
ORGANIZER;CN=ILEAP Charity:MAILTO:sparkle@ileap.co.uk
END:VEVENT
END:VCALENDAR