BEGIN:VCALENDAR
VERSION:2.0
PRODID:Events Booking
BEGIN:VEVENT
UID:69ed4b7441a57
SUMMARY:Online Zoom Activity: Drama Thursday Workshop 16 years and over  
DESCRIPTION:
DTSTART:20200924T170000Z
DTEND:20200924T180000Z
DTSTAMP:20260426T001708Z
ORGANIZER;CN=ILEAP Charity:MAILTO:sparkle@ileap.co.uk
END:VEVENT
END:VCALENDAR