BEGIN:VCALENDAR
VERSION:2.0
PRODID:Events Booking
BEGIN:VEVENT
UID:69ecff0b4e8c6
SUMMARY:Online Zoom Activity: Drama Thursday Workshop 16 years and over 
DESCRIPTION:
DTSTART:20200625T170000Z
DTEND:20200625T180000Z
DTSTAMP:20260425T185107Z
ORGANIZER;CN=ILEAP Charity:MAILTO:sparkle@ileap.co.uk
END:VEVENT
END:VCALENDAR