BEGIN:VCALENDAR
VERSION:2.0
PRODID:Events Booking
BEGIN:VEVENT
UID:69ed376ca8686
SUMMARY:Online Zoom Activity: Drama Thursday Workshop 16 years and over  
DESCRIPTION:
DTSTART:20200827T160000Z
DTEND:20200827T170000Z
DTSTAMP:20260425T225140Z
ORGANIZER;CN=ILEAP Charity:MAILTO:sparkle@ileap.co.uk
END:VEVENT
END:VCALENDAR