BEGIN:VCALENDAR
VERSION:2.0
PRODID:Events Booking
BEGIN:VEVENT
UID:69ed4b542b7b3
SUMMARY:Online Zoom Activity: Drama Thursday Workshop 16 years and over  
DESCRIPTION:
DTSTART:20200903T160000Z
DTEND:20200903T170000Z
DTSTAMP:20260426T001636Z
ORGANIZER;CN=ILEAP Charity:MAILTO:sparkle@ileap.co.uk
END:VEVENT
END:VCALENDAR