BEGIN:VCALENDAR
VERSION:2.0
PRODID:Events Booking
BEGIN:VEVENT
UID:69eced028c9d8
SUMMARY:Online Zoom Activity: Drama Thursday Workshop 16 years and over 
DESCRIPTION:
DTSTART:20200611T170000Z
DTEND:20200611T180000Z
DTSTAMP:20260425T173410Z
ORGANIZER;CN=ILEAP Charity:MAILTO:sparkle@ileap.co.uk
END:VEVENT
END:VCALENDAR