BEGIN:VCALENDAR
VERSION:2.0
PRODID:Events Booking
BEGIN:VEVENT
UID:69ed144e8bd82
SUMMARY:Online Zoom Activity: Drama Thursday Workshop 16 years and over  
DESCRIPTION:
DTSTART:20200806T160000Z
DTEND:20200806T170000Z
DTSTAMP:20260425T202150Z
ORGANIZER;CN=ILEAP Charity:MAILTO:sparkle@ileap.co.uk
END:VEVENT
END:VCALENDAR