BEGIN:VCALENDAR
VERSION:2.0
PRODID:Events Booking
BEGIN:VEVENT
UID:69ed4b19cfe8b
SUMMARY:Online Zoom Activity: Drama Thursday Workshop 16 years and over  
DESCRIPTION:
DTSTART:20200917T170000Z
DTEND:20200917T180000Z
DTSTAMP:20260426T001537Z
ORGANIZER;CN=ILEAP Charity:MAILTO:sparkle@ileap.co.uk
END:VEVENT
END:VCALENDAR