BEGIN:VCALENDAR
VERSION:2.0
PRODID:Events Booking
BEGIN:VEVENT
UID:69ecdf10736bd
SUMMARY:Online Zoom Activity: Drama Thursday Workshop 16 years and over
DESCRIPTION:
DTSTART:20200507T180000Z
DTEND:20200507T190000Z
DTSTAMP:20260425T163440Z
ORGANIZER;CN=ILEAP Charity:MAILTO:sparkle@ileap.co.uk
END:VEVENT
END:VCALENDAR