BEGIN:VCALENDAR
VERSION:2.0
PRODID:Events Booking
BEGIN:VEVENT
UID:69ed4b179521d
SUMMARY:Online Zoom Activity: Drama Thursday Workshop 8 - 16 years 
DESCRIPTION:
DTSTART:20200924T153000Z
DTEND:20200924T163000Z
DTSTAMP:20260426T001535Z
ORGANIZER;CN=ILEAP Charity:MAILTO:sparkle@ileap.co.uk
END:VEVENT
END:VCALENDAR