BEGIN:VCALENDAR
VERSION:2.0
PRODID:Events Booking
BEGIN:VEVENT
UID:69ed4cf0832f3
SUMMARY:Online Zoom Activity: Drama Thursday Workshop 8 - 16 years 
DESCRIPTION:
DTSTART:20200917T153000Z
DTEND:20200917T163000Z
DTSTAMP:20260426T002328Z
ORGANIZER;CN=ILEAP Charity:MAILTO:sparkle@ileap.co.uk
END:VEVENT
END:VCALENDAR