BEGIN:VCALENDAR
VERSION:2.0
PRODID:Events Booking
BEGIN:VEVENT
UID:69eced948543f
SUMMARY:Online Zoom Activity: Drama Workshop 12 years and over: Tuesday 
DESCRIPTION:
DTSTART:20200616T170000Z
DTEND:20200616T180000Z
DTSTAMP:20260425T173636Z
ORGANIZER;CN=ILEAP Charity:MAILTO:sparkle@ileap.co.uk
END:VEVENT
END:VCALENDAR