BEGIN:VCALENDAR
VERSION:2.0
PRODID:Events Booking
BEGIN:VEVENT
UID:69ecff0bb17de
SUMMARY:Online Zoom Activity: Drama Workshop 12 years and over: Tuesday 
DESCRIPTION:
DTSTART:20200630T170000Z
DTEND:20200630T180000Z
DTSTAMP:20260425T185107Z
ORGANIZER;CN=ILEAP Charity:MAILTO:sparkle@ileap.co.uk
END:VEVENT
END:VCALENDAR