BEGIN:VCALENDAR
VERSION:2.0
PRODID:Events Booking
BEGIN:VEVENT
UID:69ecdf105eb35
SUMMARY:Online Zoom Activity: Drama Workshop 12 years and over: Tuesday 
DESCRIPTION:
DTSTART:20200526T170000Z
DTEND:20200526T180000Z
DTSTAMP:20260425T163440Z
ORGANIZER;CN=ILEAP Charity:MAILTO:sparkle@ileap.co.uk
END:VEVENT
END:VCALENDAR