BEGIN:VCALENDAR
VERSION:2.0
PRODID:Events Booking
BEGIN:VEVENT
UID:69ecaf50732a3
SUMMARY:Online Zoom Activity: Drama Workshop 13 years and over: Thursday
DESCRIPTION:
DTSTART:20200409T170000Z
DTEND:20200409T180000Z
DTSTAMP:20260425T131056Z
ORGANIZER;CN=ILEAP Charity:MAILTO:sparkle@ileap.co.uk
END:VEVENT
END:VCALENDAR