BEGIN:VCALENDAR
VERSION:2.0
PRODID:Events Booking
BEGIN:VEVENT
UID:69ecdbb845845
SUMMARY:Online Zoom Activity: Tuesday Drama Workshop\, 14 years and over
DESCRIPTION:
DTSTART:20200519T170000Z
DTEND:20200519T180000Z
DTSTAMP:20260425T162024Z
ORGANIZER;CN=ILEAP Charity:MAILTO:sparkle@ileap.co.uk
END:VEVENT
END:VCALENDAR