BEGIN:VCALENDAR
VERSION:2.0
PRODID:Events Booking
BEGIN:VEVENT
UID:69ecc6f2f40e1
SUMMARY:Online Zoom Activity: Tuesday Drama Workshop\, 14 years and over
DESCRIPTION:
DTSTART:20200505T170000Z
DTEND:20200505T180000Z
DTSTAMP:20260425T145146Z
ORGANIZER;CN=ILEAP Charity:MAILTO:sparkle@ileap.co.uk
END:VEVENT
END:VCALENDAR