BEGIN:VCALENDAR
VERSION:2.0
PRODID:Events Booking
BEGIN:VEVENT
UID:69ecafc7cd45d
SUMMARY:Online Zoom Activity: Tuesday Drama Workshop\, 14 years and over
DESCRIPTION:
DTSTART:20200414T170000Z
DTEND:20200414T180000Z
DTSTAMP:20260425T131255Z
ORGANIZER;CN=ILEAP Charity:MAILTO:sparkle@ileap.co.uk
END:VEVENT
END:VCALENDAR