BEGIN:VCALENDAR
VERSION:2.0
PRODID:Events Booking
BEGIN:VEVENT
UID:69ecc760cc225
SUMMARY:Online Zoom Activity: Tuesday Drama Workshop\, 14 years and over
DESCRIPTION:
DTSTART:20200421T170000Z
DTEND:20200421T180000Z
DTSTAMP:20260425T145336Z
ORGANIZER;CN=ILEAP Charity:MAILTO:sparkle@ileap.co.uk
END:VEVENT
END:VCALENDAR