BEGIN:VCALENDAR
VERSION:2.0
PRODID:Events Booking
BEGIN:VEVENT
UID:69ecafb7435d2
SUMMARY:Online Zoom Activity: Drama Workshop 5 - 12 years: Thursday
DESCRIPTION:
DTSTART:20200416T130000Z
DTEND:20200416T140000Z
DTSTAMP:20260425T131239Z
ORGANIZER;CN=ILEAP Charity:MAILTO:sparkle@ileap.co.uk
END:VEVENT
END:VCALENDAR