BEGIN:VCALENDAR
VERSION:2.0
PRODID:Events Booking
BEGIN:VEVENT
UID:69ecc741a67ee
SUMMARY:Online Zoom Activity: Drama Workshop 5 - 12 years: Thursday
DESCRIPTION:
DTSTART:20200423T130000Z
DTEND:20200423T140000Z
DTSTAMP:20260425T145305Z
ORGANIZER;CN=ILEAP Charity:MAILTO:sparkle@ileap.co.uk
END:VEVENT
END:VCALENDAR