BEGIN:VCALENDAR
VERSION:2.0
PRODID:Events Booking
BEGIN:VEVENT
UID:69ecaf3e3edef
SUMMARY:Online Zoom Activity: Drama Workshop 5 - 12 years: Thursday
DESCRIPTION:
DTSTART:20200409T130000Z
DTEND:20200409T140000Z
DTSTAMP:20260425T131038Z
ORGANIZER;CN=ILEAP Charity:MAILTO:sparkle@ileap.co.uk
END:VEVENT
END:VCALENDAR