BEGIN:VCALENDAR
VERSION:2.0
PRODID:Events Booking
BEGIN:VEVENT
UID:69ecff86d6cdd
SUMMARY:Online Zoom Activity: Friday Night After Party: 16 years and over
DESCRIPTION:
DTSTART:20200710T180000Z
DTEND:20200710T190000Z
DTSTAMP:20260425T185310Z
ORGANIZER;CN=ILEAP Charity:MAILTO:sparkle@ileap.co.uk
END:VEVENT
END:VCALENDAR