BEGIN:VCALENDAR
VERSION:2.0
PRODID:Events Booking
BEGIN:VEVENT
UID:69ed151e2f322
SUMMARY:Online Zoom Activity: Friday Night After Party: 16 years and over
DESCRIPTION:
DTSTART:20200717T180000Z
DTEND:20200717T190000Z
DTSTAMP:20260425T202518Z
ORGANIZER;CN=ILEAP Charity:MAILTO:sparkle@ileap.co.uk
END:VEVENT
END:VCALENDAR