BEGIN:VCALENDAR
VERSION:2.0
PRODID:Events Booking
BEGIN:VEVENT
UID:69ed2739d6e6b
SUMMARY:Online Zoom Activity: Friday Night After Party: 16 years and over 
DESCRIPTION:
DTSTART:20200807T181500Z
DTEND:20200807T191500Z
DTSTAMP:20260425T214233Z
ORGANIZER;CN=ILEAP Charity:MAILTO:sparkle@ileap.co.uk
END:VEVENT
END:VCALENDAR