BEGIN:VCALENDAR
VERSION:2.0
PRODID:Events Booking
BEGIN:VEVENT
UID:69ed3a752934d
SUMMARY:Online Zoom Activity: Friday Night After Party: 16 years and over 
DESCRIPTION:
DTSTART:20200821T181500Z
DTEND:20200821T191500Z
DTSTAMP:20260425T230437Z
ORGANIZER;CN=ILEAP Charity:MAILTO:sparkle@ileap.co.uk
END:VEVENT
END:VCALENDAR