BEGIN:VCALENDAR
VERSION:2.0
PRODID:Events Booking
BEGIN:VEVENT
UID:69ed4bdaac2f4
SUMMARY:Online Zoom Activity: Friday Night After Party: 16 years and over 
DESCRIPTION:
DTSTART:20200925T171500Z
DTEND:20200925T181500Z
DTSTAMP:20260426T001850Z
ORGANIZER;CN=ILEAP Charity:MAILTO:sparkle@ileap.co.uk
END:VEVENT
END:VCALENDAR