BEGIN:VCALENDAR
VERSION:2.0
PRODID:Events Booking
BEGIN:VEVENT
UID:69ecff871022a
SUMMARY:Online Zoom Activity: Friday Night After Party: 16 years and over
DESCRIPTION:
DTSTART:20200626T180000Z
DTEND:20200626T190000Z
DTSTAMP:20260425T185311Z
ORGANIZER;CN=ILEAP Charity:MAILTO:sparkle@ileap.co.uk
END:VEVENT
END:VCALENDAR