BEGIN:VCALENDAR
VERSION:2.0
PRODID:Events Booking
BEGIN:VEVENT
UID:69ed392d44b52
SUMMARY:Online Zoom Activity: Friday Night After Party: 16 years and over 
DESCRIPTION:
DTSTART:20200828T181500Z
DTEND:20200828T191500Z
DTSTAMP:20260425T225909Z
ORGANIZER;CN=ILEAP Charity:MAILTO:sparkle@ileap.co.uk
END:VEVENT
END:VCALENDAR