BEGIN:VCALENDAR
VERSION:2.0
PRODID:Events Booking
BEGIN:VEVENT
UID:69ed4bdb607b2
SUMMARY:Online Zoom Activity: Friday Night After Party: 16 years and over 
DESCRIPTION:
DTSTART:20200904T181500Z
DTEND:20200904T191500Z
DTSTAMP:20260426T001851Z
ORGANIZER;CN=ILEAP Charity:MAILTO:sparkle@ileap.co.uk
END:VEVENT
END:VCALENDAR