BEGIN:VCALENDAR
VERSION:2.0
PRODID:Events Booking
BEGIN:VEVENT
UID:69eced55184b8
SUMMARY:Online Zoom Activity: Friday Night After Party: 16 years and over
DESCRIPTION:
DTSTART:20200612T180000Z
DTEND:20200612T190000Z
DTSTAMP:20260425T173533Z
ORGANIZER;CN=ILEAP Charity:MAILTO:sparkle@ileap.co.uk
END:VEVENT
END:VCALENDAR