BEGIN:VCALENDAR
VERSION:2.0
PRODID:Events Booking
BEGIN:VEVENT
UID:69ed14af92928
SUMMARY:Online Zoom Activity: Friday Night Quiz: 12 years and over 
DESCRIPTION:
DTSTART:20200717T170000Z
DTEND:20200717T180000Z
DTSTAMP:20260425T202327Z
ORGANIZER;CN=ILEAP Charity:MAILTO:sparkle@ileap.co.uk
END:VEVENT
END:VCALENDAR