BEGIN:VCALENDAR
VERSION:2.0
PRODID:Events Booking
BEGIN:VEVENT
UID:69eced930e26d
SUMMARY:Online Zoom Activity: Friday Night Quiz: 12 years and over 
DESCRIPTION:
DTSTART:20200619T170000Z
DTEND:20200619T180000Z
DTSTAMP:20260425T173635Z
ORGANIZER;CN=ILEAP Charity:MAILTO:sparkle@ileap.co.uk
END:VEVENT
END:VCALENDAR