BEGIN:VCALENDAR
VERSION:2.0
PRODID:Events Booking
BEGIN:VEVENT
UID:69eced03903da
SUMMARY:Online Zoom Activity: Friday Night Quiz: 12 years and over 
DESCRIPTION:
DTSTART:20200612T170000Z
DTEND:20200612T180000Z
DTSTAMP:20260425T173411Z
ORGANIZER;CN=ILEAP Charity:MAILTO:sparkle@ileap.co.uk
END:VEVENT
END:VCALENDAR