BEGIN:VCALENDAR
VERSION:2.0
PRODID:Events Booking
BEGIN:VEVENT
UID:69ecc7415ced9
SUMMARY:Online Zoom Activity: Friday Night Fun: 16 years and over
DESCRIPTION:
DTSTART:20200501T180000Z
DTEND:20200501T190000Z
DTSTAMP:20260425T145305Z
ORGANIZER;CN=ILEAP Charity:MAILTO:sparkle@ileap.co.uk
END:VEVENT
END:VCALENDAR