BEGIN:VCALENDAR
VERSION:2.0
PRODID:Events Booking
BEGIN:VEVENT
UID:69ecdbd31bfae
SUMMARY:Online Zoom Activity: Friday Night Fun: 16 years and over
DESCRIPTION:
DTSTART:20200522T180000Z
DTEND:20200522T190000Z
DTSTAMP:20260425T162051Z
ORGANIZER;CN=ILEAP Charity:MAILTO:sparkle@ileap.co.uk
END:VEVENT
END:VCALENDAR