BEGIN:VCALENDAR
VERSION:2.0
PRODID:Events Booking
BEGIN:VEVENT
UID:69ecb1996a548
SUMMARY:Online Zoom Activity: Friday Night Fun: 16 years and over
DESCRIPTION:
DTSTART:20200410T180000Z
DTEND:20200410T190000Z
DTSTAMP:20260425T132041Z
ORGANIZER;CN=ILEAP Charity:MAILTO:sparkle@ileap.co.uk
END:VEVENT
END:VCALENDAR