BEGIN:VCALENDAR
VERSION:2.0
PRODID:Events Booking
BEGIN:VEVENT
UID:69ed275ca9cd3
SUMMARY:Online Zoom Activity: Friday Night Quiz: 12 years and over 
DESCRIPTION:
DTSTART:20200814T170000Z
DTEND:20200814T180000Z
DTSTAMP:20260425T214308Z
ORGANIZER;CN=ILEAP Charity:MAILTO:sparkle@ileap.co.uk
END:VEVENT
END:VCALENDAR