BEGIN:VCALENDAR
VERSION:2.0
PRODID:Events Booking
BEGIN:VEVENT
UID:69ed4bb639859
SUMMARY:Online Zoom Activity: Friday Night Quiz: 12 years and over 
DESCRIPTION:
DTSTART:20200925T160000Z
DTEND:20200925T170000Z
DTSTAMP:20260426T001814Z
ORGANIZER;CN=ILEAP Charity:MAILTO:sparkle@ileap.co.uk
END:VEVENT
END:VCALENDAR